BEGIN:VCALENDAR
VERSION:2.0
PRODID:-//Friends of Badger Mountain - ECPv6.15.20//NONSGML v1.0//EN
CALSCALE:GREGORIAN
METHOD:PUBLISH
X-WR-CALNAME:Friends of Badger Mountain
X-ORIGINAL-URL:https://friendsofbadger.org
X-WR-CALDESC:Events for Friends of Badger Mountain
REFRESH-INTERVAL;VALUE=DURATION:PT1H
X-Robots-Tag:noindex
X-PUBLISHED-TTL:PT1H
BEGIN:VTIMEZONE
TZID:America/Los_Angeles
BEGIN:DAYLIGHT
TZOFFSETFROM:-0800
TZOFFSETTO:-0700
TZNAME:PDT
DTSTART:20240310T100000
END:DAYLIGHT
BEGIN:STANDARD
TZOFFSETFROM:-0700
TZOFFSETTO:-0800
TZNAME:PST
DTSTART:20241103T090000
END:STANDARD
BEGIN:DAYLIGHT
TZOFFSETFROM:-0800
TZOFFSETTO:-0700
TZNAME:PDT
DTSTART:20250309T100000
END:DAYLIGHT
BEGIN:STANDARD
TZOFFSETFROM:-0700
TZOFFSETTO:-0800
TZNAME:PST
DTSTART:20251102T090000
END:STANDARD
BEGIN:DAYLIGHT
TZOFFSETFROM:-0800
TZOFFSETTO:-0700
TZNAME:PDT
DTSTART:20260308T100000
END:DAYLIGHT
BEGIN:STANDARD
TZOFFSETFROM:-0700
TZOFFSETTO:-0800
TZNAME:PST
DTSTART:20261101T090000
END:STANDARD
END:VTIMEZONE
BEGIN:VEVENT
DTSTART;TZID=America/Los_Angeles:20250604T070000
DTEND;TZID=America/Los_Angeles:20250604T100000
DTSTAMP:20260424T202300
CREATED:20250603T024613Z
LAST-MODIFIED:20250603T024617Z
UID:7276-1749020400-1749031200@friendsofbadger.org
SUMMARY:Weeding Crew - June 4th
DESCRIPTION:Duties: Locating and hand pulling Yellow Starthistle and Diffuse Knapweed Plants. The Rush Skeletonweed plants are left rooted in the ground\, but are clipped of their blooms and buds\, and the remaining plant stems individually “painted” with Roundup herbicide. (not all crew members do this task). Plants range in size from short\, small plants to larger branched plants with thorns. At present\, plants are ranging from only a few inches in height up to nearly 3 feet in height\, depending on species and individual growing conditions. They may occur as single plants\, small groupings\, or in small patches. Presently\, the werdmaster is seeing some weeds approaching the blooming stage\, making them more easily identified. We will bag and remove the plant material. \n\n\n\n \n\n\n\nTools and Clothing: Bring good strong gloves — leather is best! Long sleeved shirts and long pants are recommended for scratch and sun protection. Don’t forget a hat. A small set of pruning clippers is sometimes useful. Generally\, just pulling and bagging the plants has proven to be the most practical method of removal. Since we are constantly moving\, a fanny pack or small backpack is useful to carry your “stuff” — gloves\, phone\, water\, snacks\, tools\, sun protection\, etc. Bring heavier plastic bags for the weeds if you have them – like feed bags or potting soil bags\, etc. The weedmaster will have bags\, too. \n\n\n\n \n\n\n\nTerrain: We are working off-trail where the ground is sloped and uneven with plenty of dry Cheatgrass\, rocky in some areas — sturdy boots recommended. The weedmaster suggests using boot gaiters to keep the Cheatgrass out of your socks and boots. The Cheatgrass is again plentiful this year! \n\n\n\n \n\n\n\nReply to: davidbeach47@gmail.com Please let the weedmaster know as early as possible\, so they can have an idea who to be looking for and how large of a group to expect for assignments\, etc. After meeting at the parking lot\, we sometimes drive our vehicles\, or carpool to another location closer to the work area.
URL:https://friendsofbadger.org/event/weeding-crew-june-4th-2025/
LOCATION:Candy Mountain Preserve Trailhead\, 71004 E 669 PR NE\, Richland\, WA\, 99352\, United States
CATEGORIES:Weeding
ATTACH;FMTTYPE=image/png:https://friendsofbadger.org/wp-content/uploads/2024/07/volunteer_weeding_crews.png
ORGANIZER;CN="Dave Beach":MAILTO:davidbeach47@gmail.com
END:VEVENT
BEGIN:VEVENT
DTSTART;TZID=America/Los_Angeles:20250608T070000
DTEND;TZID=America/Los_Angeles:20250608T100000
DTSTAMP:20260424T202300
CREATED:20250603T024729Z
LAST-MODIFIED:20250603T024732Z
UID:7278-1749366000-1749376800@friendsofbadger.org
SUMMARY:Weeding Crew - June 8th
DESCRIPTION:Duties: Locating and hand pulling Yellow Starthistle and Diffuse Knapweed Plants. The Rush Skeletonweed plants are left rooted in the ground\, but are clipped of their blooms and buds\, and the remaining plant stems individually “painted” with Roundup herbicide. (not all crew members do this task). Plants range in size from short\, small plants to larger branched plants with thorns. At present\, plants are ranging from only a few inches in height up to nearly 3 feet in height\, depending on species and individual growing conditions. They may occur as single plants\, small groupings\, or in small patches. Presently\, the werdmaster is seeing some weeds approaching the blooming stage\, making them more easily identified. We will bag and remove the plant material. \n\n\n\n \n\n\n\nTools and Clothing: Bring good strong gloves — leather is best! Long sleeved shirts and long pants are recommended for scratch and sun protection. Don’t forget a hat. A small set of pruning clippers is sometimes useful. Generally\, just pulling and bagging the plants has proven to be the most practical method of removal. Since we are constantly moving\, a fanny pack or small backpack is useful to carry your “stuff” — gloves\, phone\, water\, snacks\, tools\, sun protection\, etc. Bring heavier plastic bags for the weeds if you have them – like feed bags or potting soil bags\, etc. The weedmaster will have bags\, too. \n\n\n\n \n\n\n\nTerrain: We are working off-trail where the ground is sloped and uneven with plenty of dry Cheatgrass\, rocky in some areas — sturdy boots recommended. The weedmaster suggests using boot gaiters to keep the Cheatgrass out of your socks and boots. The Cheatgrass is again plentiful this year! \n\n\n\n \n\n\n\nReply to: davidbeach47@gmail.com Please let the weedmaster know as early as possible\, so they can have an idea who to be looking for and how large of a group to expect for assignments\, etc. After meeting at the parking lot\, we sometimes drive our vehicles\, or carpool to another location closer to the work area.
URL:https://friendsofbadger.org/event/weeding-crew-june-8th-2025/
LOCATION:Candy Mountain Preserve Trailhead\, 71004 E 669 PR NE\, Richland\, WA\, 99352\, United States
CATEGORIES:Weeding
ATTACH;FMTTYPE=image/png:https://friendsofbadger.org/wp-content/uploads/2024/07/volunteer_weeding_crews.png
ORGANIZER;CN="Dave Beach":MAILTO:davidbeach47@gmail.com
END:VEVENT
BEGIN:VEVENT
DTSTART;TZID=America/Los_Angeles:20250611T070000
DTEND;TZID=America/Los_Angeles:20250611T100000
DTSTAMP:20260424T202300
CREATED:20250613T032700Z
LAST-MODIFIED:20250613T032702Z
UID:7292-1749625200-1749636000@friendsofbadger.org
SUMMARY:Weeding Crew - June 11th
DESCRIPTION:Time: 7:00 – 10:00 AM. Working period is always flexible\, just communicate your intentions with the leader. \n\n\n\n \n\n\n\nWhere:  Meet at Candy Mountain Trailhead parking lot. Address is 71004 E. 669 PR N.E. Directions – turn off of Dallas Rd. onto PR669 Rd. NE. Drive uphill to the parking lot on the right.  Don’t leave anything in your car that may appear valuable since some car break-ins have occurred.   \n\n\n\n \n\n\n\nDuties: Locating and hand pulling Yellow Starthistle and Diffuse Knapweed Plants. The Rush Skeletonweed plants are left rooted in the ground\, but are clipped of their blooms and buds\, and the remaining plant stems individually “painted” with Roundup herbicide. (not all crew members do this task). Plants range in size from short\, small plants to larger branched plants with thorns. At present\, plants are ranging from only a few inches in height up to nearly 3 feet in height\, depending on species and individual growing conditions. They may occur as single plants\, small groupings\, or in small patches. Presently\, the werdmaster is seeing some weeds approaching the blooming stage\, making them more easily identified. We will bag and remove the plant material. Currently removing Rye \n\n\n\n \n\n\n\nTools and Clothing: Bring good strong gloves — leather is best! Long sleeved shirts and long pants are recommended for scratch and sun protection. Don’t forget a hat. A small set of pruning clippers is sometimes useful. Generally\, just pulling and bagging the plants has proven to be the most practical method of removal. Since we are constantly moving\, a fanny pack or small backpack is useful to carry your “stuff” — gloves\, phone\, water\, snacks\, tools\, sun protection\, etc. Bring heavier plastic bags for the weeds if you have them – like feed bags or potting soil bags\, etc. The weedmaster will have bags\, too. \n\n\n\n \n\n\n\nTerrain: We are working off-trail where the ground is sloped and uneven with plenty of dry Cheatgrass\, rocky in some areas — sturdy boots recommended. The weedmaster suggests using boot gaiters to keep the Cheatgrass out of your socks and boots. The Cheatgrass is again plentiful this year! \n\n\n\n \n\n\n\nReply to: davidbeach47@gmail.com Please let the weedmaster know as early as possible\, so they can have an idea who to be looking for and how large of a group to expect for assignments\, etc. After meeting at the parking lot\, we sometimes drive our vehicles\, or carpool to another location closer to the work area.
URL:https://friendsofbadger.org/event/weeding-crew-june-11th-2025/
LOCATION:Candy Mountain Preserve Trailhead\, 71004 E 669 PR NE\, Richland\, WA\, 99352\, United States
CATEGORIES:Weeding
ATTACH;FMTTYPE=image/png:https://friendsofbadger.org/wp-content/uploads/2024/07/volunteer_weeding_crews.png
ORGANIZER;CN="Dave Beach":MAILTO:davidbeach47@gmail.com
END:VEVENT
BEGIN:VEVENT
DTSTART;TZID=America/Los_Angeles:20250615T070000
DTEND;TZID=America/Los_Angeles:20250615T100000
DTSTAMP:20260424T202300
CREATED:20250613T033222Z
LAST-MODIFIED:20250614T004405Z
UID:7294-1749970800-1749981600@friendsofbadger.org
SUMMARY:Weeding Crew - June 15th
DESCRIPTION:Time: 7:00 – 10:00 AM. Working period is always flexible\, just communicate your intentions with the leader. \n\n\n\n \n\n\n\nWhere:  Meet at Candy Mountain Trailhead parking lot.  Address is 71004 E. 669 PR N.E.  Directions – turn off of Dallas Rd. onto PR669 Rd. NE.  Drive uphill to the parking lot on the right.  Don’t leave anything in your car that may appear valuable since some car break-ins have occurred.  \n\n\n\n \n\n\n\nDuties: Locating and hand pulling Yellow Starthistle and Diffuse Knapweed Plants. The Rush Skeletonweed plants are left rooted in the ground\, but are clipped of their blooms and buds\, and the remaining plant stems individually “painted” with Roundup herbicide. (not all crew members do this task). Plants range in size from short\, small plants to larger branched plants with thorns. At present\, plants are ranging from only a few inches in height up to nearly 3 feet in height\, depending on species and individual growing conditions. They may occur as single plants\, small groupings\, or in small patches. Presently\, the werdmaster is seeing some weeds approaching the blooming stage\, making them more easily identified. We will bag and remove the plant material. Currently removing Rye \n\n\n\n \n\n\n\nTools and Clothing: Bring good strong gloves — leather is best! Long sleeved shirts and long pants are recommended for scratch and sun protection. Don’t forget a hat. A small set of pruning clippers is sometimes useful. Generally\, just pulling and bagging the plants has proven to be the most practical method of removal. Since we are constantly moving\, a fanny pack or small backpack is useful to carry your “stuff” — gloves\, phone\, water\, snacks\, tools\, sun protection\, etc. Bring heavier plastic bags for the weeds if you have them – like feed bags or potting soil bags\, etc. The weedmaster will have bags\, too. \n\n\n\n \n\n\n\nTerrain: We are working off-trail where the ground is sloped and uneven with plenty of dry Cheatgrass\, rocky in some areas — sturdy boots recommended. The weedmaster suggests using boot gaiters to keep the Cheatgrass out of your socks and boots. The Cheatgrass is again plentiful this year! \n\n\n\n \n\n\n\nReply to: davidbeach47@gmail.com Please let the weedmaster know as early as possible\, so they can have an idea who to be looking for and how large of a group to expect for assignments\, etc. After meeting at the parking lot\, we sometimes drive our vehicles\, or carpool to another location closer to the work area.
URL:https://friendsofbadger.org/event/weeding-crew-june-15th-2025/
LOCATION:Candy Mountain Preserve Trailhead\, 71004 E 669 PR NE\, Richland\, WA\, 99352\, United States
CATEGORIES:Weeding
ATTACH;FMTTYPE=image/png:https://friendsofbadger.org/wp-content/uploads/2024/07/volunteer_weeding_crews.png
ORGANIZER;CN="Dave Beach":MAILTO:davidbeach47@gmail.com
END:VEVENT
BEGIN:VEVENT
DTSTART;TZID=America/Los_Angeles:20250618T070000
DTEND;TZID=America/Los_Angeles:20250618T100000
DTSTAMP:20260424T202300
CREATED:20250613T033607Z
LAST-MODIFIED:20250617T160250Z
UID:7296-1750230000-1750240800@friendsofbadger.org
SUMMARY:Weeding Crew - June 18th
DESCRIPTION:Time: 7:00 – 10:00 AM. Working period is always flexible\, just communicate your intentions with the leader. \n\n\n\n \n\n\n\nWhere:  Meet at Candy Mountain Trailhead parking lot.  Address is 71004 E. 669 PR N.E.  Directions – turn off of Dallas Rd. onto PR669 Rd. NE.  Drive uphill to the parking lot on the right.  Don’t leave anything in your car that may appear valuable since some car break-ins have occurred.  \n\n\n\n \n\n\n\nDuties: Locating and hand pulling Yellow Starthistle and Diffuse Knapweed Plants. The Rush Skeletonweed plants are left rooted in the ground\, but are clipped of their blooms and buds\, and the remaining plant stems individually “painted” with Roundup herbicide. (not all crew members do this task). Plants range in size from short\, small plants to larger branched plants with thorns. At present\, plants are ranging from only a few inches in height up to nearly 3 feet in height\, depending on species and individual growing conditions. They may occur as single plants\, small groupings\, or in small patches. Presently\, the weedmaster is seeing some weeds approaching the blooming stage\, making them more easily identified. We will bag and remove the plant material. \n\n\n\n \n\n\n\nTools and Clothing: Bring good strong gloves — leather is best! Long sleeved shirts and long pants are recommended for scratch and sun protection. Don’t forget a hat. A small set of pruning clippers is sometimes useful. Generally\, just pulling and bagging the plants has proven to be the most practical method of removal. Since we are constantly moving\, a fanny pack or small backpack is useful to carry your “stuff” — gloves\, phone\, water\, snacks\, tools\, sun protection\, etc. Bring heavier plastic bags for the weeds if you have them – like feed bags or potting soil bags\, etc. The weedmaster will have bags\, too. \n\n\n\n \n\n\n\nTerrain: We are working off-trail where the ground is sloped and uneven with plenty of dry Cheatgrass\, rocky in some areas — sturdy boots recommended. The weedmaster suggests using boot gaiters to keep the Cheatgrass out of your socks and boots. The Cheatgrass is again plentiful this year! \n\n\n\n \n\n\n\nReply to: davidbeach47@gmail.com Please let the weedmaster know as early as possible\, so they can have an idea who to be looking for and how large of a group to expect for assignments\, etc. After meeting at the parking lot\, we sometimes drive our vehicles\, or carpool to another location closer to the work area.
URL:https://friendsofbadger.org/event/weeding-crew-june-18th-2025/
LOCATION:Candy Mountain Preserve Trailhead\, 71004 E 669 PR NE\, Richland\, WA\, 99352\, United States
CATEGORIES:Weeding
ATTACH;FMTTYPE=image/png:https://friendsofbadger.org/wp-content/uploads/2024/07/volunteer_weeding_crews.png
ORGANIZER;CN="Dave Beach":MAILTO:davidbeach47@gmail.com
END:VEVENT
BEGIN:VEVENT
DTSTART;TZID=America/Los_Angeles:20250622T070000
DTEND;TZID=America/Los_Angeles:20250622T100000
DTSTAMP:20260424T202300
CREATED:20250613T033710Z
LAST-MODIFIED:20250613T033712Z
UID:7298-1750575600-1750586400@friendsofbadger.org
SUMMARY:Weeding Crew - June 22nd
DESCRIPTION:Time: 7:00 – 10:00 AM. Working period is always flexible\, just communicate your intentions with the leader. \n\n\n\n \n\n\n\nWhere:  Updated once the latest emails goes out  \n\n\n\n \n\n\n\nDuties: Locating and hand pulling Yellow Starthistle and Diffuse Knapweed Plants. The Rush Skeletonweed plants are left rooted in the ground\, but are clipped of their blooms and buds\, and the remaining plant stems individually “painted” with Roundup herbicide. (not all crew members do this task). Plants range in size from short\, small plants to larger branched plants with thorns. At present\, plants are ranging from only a few inches in height up to nearly 3 feet in height\, depending on species and individual growing conditions. They may occur as single plants\, small groupings\, or in small patches. Presently\, the werdmaster is seeing some weeds approaching the blooming stage\, making them more easily identified. We will bag and remove the plant material. Currently removing Rye \n\n\n\n \n\n\n\nTools and Clothing: Bring good strong gloves — leather is best! Long sleeved shirts and long pants are recommended for scratch and sun protection. Don’t forget a hat. A small set of pruning clippers is sometimes useful. Generally\, just pulling and bagging the plants has proven to be the most practical method of removal. Since we are constantly moving\, a fanny pack or small backpack is useful to carry your “stuff” — gloves\, phone\, water\, snacks\, tools\, sun protection\, etc. Bring heavier plastic bags for the weeds if you have them – like feed bags or potting soil bags\, etc. The weedmaster will have bags\, too. \n\n\n\n \n\n\n\nTerrain: We are working off-trail where the ground is sloped and uneven with plenty of dry Cheatgrass\, rocky in some areas — sturdy boots recommended. The weedmaster suggests using boot gaiters to keep the Cheatgrass out of your socks and boots. The Cheatgrass is again plentiful this year! \n\n\n\n \n\n\n\nReply to: davidbeach47@gmail.com Please let the weedmaster know as early as possible\, so they can have an idea who to be looking for and how large of a group to expect for assignments\, etc. After meeting at the parking lot\, we sometimes drive our vehicles\, or carpool to another location closer to the work area.
URL:https://friendsofbadger.org/event/weeding-crew-june-22nd-2025/
LOCATION:WA
CATEGORIES:Weeding
ATTACH;FMTTYPE=image/png:https://friendsofbadger.org/wp-content/uploads/2024/07/volunteer_weeding_crews.png
ORGANIZER;CN="Dave Beach":MAILTO:davidbeach47@gmail.com
END:VEVENT
BEGIN:VEVENT
DTSTART;TZID=America/Los_Angeles:20250625T070000
DTEND;TZID=America/Los_Angeles:20250625T100000
DTSTAMP:20260424T202300
CREATED:20250613T033815Z
LAST-MODIFIED:20250613T033817Z
UID:7300-1750834800-1750845600@friendsofbadger.org
SUMMARY:Weeding Crew - June 25th
DESCRIPTION:Time: 7:00 – 10:00 AM. Working period is always flexible\, just communicate your intentions with the leader. \n\n\n\n \n\n\n\nWhere:  Updated once the latest emails goes out  \n\n\n\n \n\n\n\nDuties: Locating and hand pulling Yellow Starthistle and Diffuse Knapweed Plants. The Rush Skeletonweed plants are left rooted in the ground\, but are clipped of their blooms and buds\, and the remaining plant stems individually “painted” with Roundup herbicide. (not all crew members do this task). Plants range in size from short\, small plants to larger branched plants with thorns. At present\, plants are ranging from only a few inches in height up to nearly 3 feet in height\, depending on species and individual growing conditions. They may occur as single plants\, small groupings\, or in small patches. Presently\, the werdmaster is seeing some weeds approaching the blooming stage\, making them more easily identified. We will bag and remove the plant material. Currently removing Rye \n\n\n\n \n\n\n\nTools and Clothing: Bring good strong gloves — leather is best! Long sleeved shirts and long pants are recommended for scratch and sun protection. Don’t forget a hat. A small set of pruning clippers is sometimes useful. Generally\, just pulling and bagging the plants has proven to be the most practical method of removal. Since we are constantly moving\, a fanny pack or small backpack is useful to carry your “stuff” — gloves\, phone\, water\, snacks\, tools\, sun protection\, etc. Bring heavier plastic bags for the weeds if you have them – like feed bags or potting soil bags\, etc. The weedmaster will have bags\, too. \n\n\n\n \n\n\n\nTerrain: We are working off-trail where the ground is sloped and uneven with plenty of dry Cheatgrass\, rocky in some areas — sturdy boots recommended. The weedmaster suggests using boot gaiters to keep the Cheatgrass out of your socks and boots. The Cheatgrass is again plentiful this year! \n\n\n\n \n\n\n\nReply to: davidbeach47@gmail.com Please let the weedmaster know as early as possible\, so they can have an idea who to be looking for and how large of a group to expect for assignments\, etc. After meeting at the parking lot\, we sometimes drive our vehicles\, or carpool to another location closer to the work area.
URL:https://friendsofbadger.org/event/weeding-crew-june-25th-2025/
LOCATION:WA
CATEGORIES:Weeding
ATTACH;FMTTYPE=image/png:https://friendsofbadger.org/wp-content/uploads/2024/07/volunteer_weeding_crews.png
ORGANIZER;CN="Dave Beach":MAILTO:davidbeach47@gmail.com
END:VEVENT
BEGIN:VEVENT
DTSTART;TZID=America/Los_Angeles:20250629T070000
DTEND;TZID=America/Los_Angeles:20250629T100000
DTSTAMP:20260424T202300
CREATED:20250613T033906Z
LAST-MODIFIED:20250628T174414Z
UID:7302-1751180400-1751191200@friendsofbadger.org
SUMMARY:Weeding Crew - June 29th
DESCRIPTION:Time: 7:00 – 10:00 AM. Working period is always flexible\, just communicate your intentions with the leader. \n\n\n\n \n\n\n\nWhere:  Meet at Candy Mountain Trailhead parking lot.  Address is 71004 E. 669 PR N.E.  Directions – turn off of Dallas Rd. onto PR669 Rd. NE.  Drive uphill to the parking lot on the right.  Don’t leave anything in your car that may appear valuable since some car break-ins have occurred.   \n\n\n\n \n\n\n\nDuties: Locating and hand pulling Yellow Starthistle and Diffuse Knapweed Plants. The Rush Skeletonweed plants are left rooted in the ground\, but are clipped of their blooms and buds\, and the remaining plant stems individually “painted” with Roundup herbicide. (not all crew members do this task). Plants range in size from short\, small plants to larger branched plants with thorns. At present\, plants are ranging from only a few inches in height up to nearly 3 feet in height\, depending on species and individual growing conditions. They may occur as single plants\, small groupings\, or in small patches. Presently\, the werdmaster is seeing some weeds approaching the blooming stage\, making them more easily identified. We will bag and remove the plant material.  \n\n\n\n \n\n\n\nTools and Clothing: Bring good strong gloves — leather is best! Long sleeved shirts and long pants are recommended for scratch and sun protection. Don’t forget a hat. A small set of pruning clippers is sometimes useful. Generally\, just pulling and bagging the plants has proven to be the most practical method of removal. Since we are constantly moving\, a fanny pack or small backpack is useful to carry your “stuff” — gloves\, phone\, water\, snacks\, tools\, sun protection\, etc. Bring heavier plastic bags for the weeds if you have them – like feed bags or potting soil bags\, etc. The weedmaster will have bags\, too. \n\n\n\n \n\n\n\nTerrain: We are working off-trail where the ground is sloped and uneven with plenty of dry Cheatgrass\, rocky in some areas — sturdy boots recommended. The weedmaster suggests using boot gaiters to keep the Cheatgrass out of your socks and boots. The Cheatgrass is again plentiful this year! \n\n\n\n \n\n\n\nReply to: davidbeach47@gmail.com Please let the weedmaster know as early as possible\, so they can have an idea who to be looking for and how large of a group to expect for assignments\, etc. After meeting at the parking lot\, we sometimes drive our vehicles\, or carpool to another location closer to the work area.
URL:https://friendsofbadger.org/event/weeding-crew-june-29th-2025/
LOCATION:Candy Mountain Preserve Trailhead\, 71004 E 669 PR NE\, Richland\, WA\, 99352\, United States
CATEGORIES:Weeding
ATTACH;FMTTYPE=image/png:https://friendsofbadger.org/wp-content/uploads/2024/07/volunteer_weeding_crews.png
ORGANIZER;CN="Dave Beach":MAILTO:davidbeach47@gmail.com
END:VEVENT
END:VCALENDAR