BEGIN:VCALENDAR
VERSION:2.0
PRODID:-//Friends of Badger Mountain - ECPv6.15.20//NONSGML v1.0//EN
CALSCALE:GREGORIAN
METHOD:PUBLISH
X-ORIGINAL-URL:https://friendsofbadger.org
X-WR-CALDESC:Events for Friends of Badger Mountain
REFRESH-INTERVAL;VALUE=DURATION:PT1H
X-Robots-Tag:noindex
X-PUBLISHED-TTL:PT1H
BEGIN:VTIMEZONE
TZID:America/Los_Angeles
BEGIN:DAYLIGHT
TZOFFSETFROM:-0800
TZOFFSETTO:-0700
TZNAME:PDT
DTSTART:20240310T100000
END:DAYLIGHT
BEGIN:STANDARD
TZOFFSETFROM:-0700
TZOFFSETTO:-0800
TZNAME:PST
DTSTART:20241103T090000
END:STANDARD
BEGIN:DAYLIGHT
TZOFFSETFROM:-0800
TZOFFSETTO:-0700
TZNAME:PDT
DTSTART:20250309T100000
END:DAYLIGHT
BEGIN:STANDARD
TZOFFSETFROM:-0700
TZOFFSETTO:-0800
TZNAME:PST
DTSTART:20251102T090000
END:STANDARD
BEGIN:DAYLIGHT
TZOFFSETFROM:-0800
TZOFFSETTO:-0700
TZNAME:PDT
DTSTART:20260308T100000
END:DAYLIGHT
BEGIN:STANDARD
TZOFFSETFROM:-0700
TZOFFSETTO:-0800
TZNAME:PST
DTSTART:20261101T090000
END:STANDARD
END:VTIMEZONE
BEGIN:VEVENT
DTSTART;TZID=America/Los_Angeles:20250713T070000
DTEND;TZID=America/Los_Angeles:20250713T100000
DTSTAMP:20260424T202035
CREATED:20250705T034321Z
LAST-MODIFIED:20250705T034322Z
UID:7318-1752390000-1752400800@friendsofbadger.org
SUMMARY:Weeding Crew - July 13th
DESCRIPTION:Time: 7:00 – 10:00 AM. Working period is always flexible\, just communicate your intentions with the leader. \n\n\n\n \n\n\n\nWhere:  Updated once email for date goes out \n\n\n\n \n\n\n\nDuties: Locating and hand pulling Yellow Starthistle and Diffuse Knapweed Plants. The Rush Skeletonweed plants are left rooted in the ground\, but are clipped of their blooms and buds\, and the remaining plant stems individually “painted” with Roundup herbicide. (not all crew members do this task). Plants range in size from short\, small plants to larger branched plants with thorns. At present\, plants are ranging from only a few inches in height up to nearly 3 feet in height\, depending on species and individual growing conditions.They may occur as single plants\, small groupings\, or in small patches. Presently we are seeing some weeds starting into the blooming stage\, making them more easily identified\, but also needing quicker removal. We will bag and remove the plant material. \n\n\n\n \n\n\n\nTools and Clothing: Bring good strong gloves — leather is best! Long sleeved shirts and long pants are recommended for scratch and sun protection. Don’t forget a hat. A small set of pruning clippers is sometimes useful. Generally\, just pulling and bagging the plants has proven to be the most practical method of removal. Since we are constantly moving\, a fanny pack or small backpack is useful to carry your “stuff” — gloves\, phone\, water\, snacks\, tools\, sun protection\, etc. Bring heavier plastic bags for the weeds if you have them – like feed bags or potting soil bags\, etc. The weedmaster will have bags\, too. \n\n\n\n \n\n\n\nTerrain: We are working off-trail where the ground is sloped and uneven with plenty of dry Cheatgrass\, rocky in some areas — sturdy boots recommended. The weedmaster suggests using boot gaiters to keep the Cheatgrass out of your socks and boots. The Cheatgrass is again plentiful this year! \n\n\n\n \n\n\n\nReply to: davidbeach47@gmail.com Please let the weedmaster know as early as possible\, so they can have an idea who to be looking for and how large of a group to expect for assignments\, etc. After meeting at the parking lot\, we sometimes drive our vehicles\, or carpool to another location closer to the work area.
URL:https://friendsofbadger.org/event/weeding-crew-july-13th-2025/
LOCATION:WA
CATEGORIES:Weeding
ATTACH;FMTTYPE=image/png:https://friendsofbadger.org/wp-content/uploads/2024/07/volunteer_weeding_crews.png
ORGANIZER;CN="Dave Beach":MAILTO:davidbeach47@gmail.com
END:VEVENT
END:VCALENDAR